BEGIN:VCALENDAR
VERSION:2.0
PRODID:-//Training in partnership - ECPv6.15.20//NONSGML v1.0//EN
CALSCALE:GREGORIAN
METHOD:PUBLISH
X-ORIGINAL-URL:https://traininginpartnership.co.uk
X-WR-CALDESC:Events for Training in partnership
REFRESH-INTERVAL;VALUE=DURATION:PT1H
X-Robots-Tag:noindex
X-PUBLISHED-TTL:PT1H
BEGIN:VTIMEZONE
TZID:Europe/London
BEGIN:DAYLIGHT
TZOFFSETFROM:+0000
TZOFFSETTO:+0100
TZNAME:BST
DTSTART:20250330T010000
END:DAYLIGHT
BEGIN:STANDARD
TZOFFSETFROM:+0100
TZOFFSETTO:+0000
TZNAME:GMT
DTSTART:20251026T010000
END:STANDARD
BEGIN:DAYLIGHT
TZOFFSETFROM:+0000
TZOFFSETTO:+0100
TZNAME:BST
DTSTART:20260329T010000
END:DAYLIGHT
BEGIN:STANDARD
TZOFFSETFROM:+0100
TZOFFSETTO:+0000
TZNAME:GMT
DTSTART:20261025T010000
END:STANDARD
BEGIN:DAYLIGHT
TZOFFSETFROM:+0000
TZOFFSETTO:+0100
TZNAME:BST
DTSTART:20270328T010000
END:DAYLIGHT
BEGIN:STANDARD
TZOFFSETFROM:+0100
TZOFFSETTO:+0000
TZNAME:GMT
DTSTART:20271031T010000
END:STANDARD
END:VTIMEZONE
BEGIN:VEVENT
DTSTART;TZID=Europe/London:20260410T093000
DTEND;TZID=Europe/London:20260410T163000
DTSTAMP:20260422T134919
CREATED:20260312T095416Z
LAST-MODIFIED:20260404T104600Z
UID:10000030-1775813400-1775838600@traininginpartnership.co.uk
SUMMARY:Oliver McGowan Mandatory Training Andover | Tier 2 Course (Fully Booked)
DESCRIPTION:Course Overview\nOur Oliver McGowan Mandatory Training Andover – Tier 2 course provides essential training for health and social care professionals supporting autistic people and individuals with a learning disability. This interactive training session is delivered at our Training in Partnership venue in the Chantry Centre\, Andover. \nThe Oliver McGowan Mandatory Training on Learning Disability and Autism is the government’s preferred and recommended training for health and social care staff. \nThis interactive training course is designed to improve the knowledge\, skills and confidence of staff when supporting autistic people and individuals with a learning disability. \nThe training promotes person-centred\, compassionate and inclusive care\, helping professionals understand the barriers people may experience when accessing services and how these can be reduced. \nThis course combines expert-led learning with lived experience input\, ensuring participants gain a deeper understanding of how to provide high quality support. \n\nWho Should Attend\nThis Tier 2 course is suitable for staff who: \n• Provide direct care or support• Work in health or social care roles• Support people with learning disabilities or autistic individuals \nExamples include: \n• Support workers• Care assistants• Nurses• Allied health professionals• Social workers• Housing support staff• Senior care staff• Team leaders / managers \n\nCourse Content\nThe training covers key topics including: \n• Understanding learning disability and autism• Health inequalities experienced by people with learning disabilities• Communication and sensory differences• Recognising and reducing diagnostic overshadowing• Reasonable adjustments in care• Supporting people with dignity and respect• The importance of listening to lived experience• Legal responsibilities and best practice \nThe course includes: \n• Interactive learning activities• Case discussions• Video content• Opportunities for reflection and discussion \n\nCertification\nParticipants who complete: \n• The Oliver McGowan Mandatory Training eLearning prior to the course\, and• The Tier 2 face-to-face training session \nwill receive the official Oliver McGowan Mandatory Training certificate\, recognised across the **NHS England and the wider health and social care sector. \nThe certificate confirms completion of Oliver McGowan Mandatory Training in Learning Disability and Autism – Tier 2. \n\nGroup Bookings\nIf your organisation would like to send multiple staff members\, group bookings are available. \nMany providers choose to book several places at once so teams can complete the training together. \nIf you would like to reserve multiple spaces or book a closed course for your team please contact us and we will be happy to assist with your booking. \nEmail: Hello@traininginpartnership.co.uk
URL:https://traininginpartnership.co.uk/event/oliver-mcgowan-mandatory-training-andover-tier-2-course/
LOCATION:Training in partnership\, The Chantry Centre\, Andover\, Hampshire\, SP10 1RL\, United Kingdom
ATTACH;FMTTYPE=image/jpeg:https://traininginpartnership.co.uk/wp-content/uploads/2026/03/Untitled-design_20260404_114422_0000.jpg
END:VEVENT
BEGIN:VEVENT
DTSTART;TZID=Europe/London:20260326T160000
DTEND;TZID=Europe/London:20260326T190000
DTSTAMP:20260422T134919
CREATED:20260312T083441Z
LAST-MODIFIED:20260312T083441Z
UID:10000029-1774540800-1774551600@traininginpartnership.co.uk
SUMMARY:Training in Partnership – Business Launch & Networking Evening
DESCRIPTION:Training in Partnership warmly invites local businesses to our Business Launch & Networking Evening as we open the doors to our new training venue. \nThis relaxed drop-in event is an opportunity for business owners\, managers and organisations to visit the training space\, meet the trainer and learn more about the professional training available to support workplace safety and compliance. \nWhether you employ a small team or manage a larger organisation\, ensuring your staff are properly trained in areas such as first aid\, health and safety and emergency response is essential. \nDuring the evening you will be able to: \n• Explore our professional training environment• Meet the founder of Training in Partnership• Learn about workplace training requirements• Discover the range of training courses available for businesses• Ask questions about training requirements for your organisation \nThis event is designed to be informal and welcoming. Guests are welcome to drop in anytime during the event. \nThere will also be the opportunity to discuss training needs for your organisation and explore how Training in Partnership can support your team with high-quality\, practical and engaging training. \n\nWhat to Expect\n✔ A warm welcome and introduction to Training in Partnership✔ Opportunity to explore the training venue✔ Networking with other local businesses✔ Exclusive open event training offers
URL:https://traininginpartnership.co.uk/event/training-in-partnership-business-launch-networking-evening/
LOCATION:Training in partnership\, The Chantry Centre\, Andover\, Hampshire\, SP10 1RL\, United Kingdom
ATTACH;FMTTYPE=image/png:https://traininginpartnership.co.uk/wp-content/uploads/2026/03/ChatGPT-Image-Mar-12-2026-08_32_51-AM-e1773304436840.png
END:VEVENT
BEGIN:VEVENT
DTSTART;TZID=Europe/London:20260326T113000
DTEND;TZID=Europe/London:20260326T140000
DTSTAMP:20260422T134919
CREATED:20260310T215205Z
LAST-MODIFIED:20260310T215205Z
UID:10000027-1774524600-1774533600@traininginpartnership.co.uk
SUMMARY:Training in Partnership: Provider Launch & Networking Lunch
DESCRIPTION:Training in Partnership: Provider Launch & Networking Lunch \nTraining in Partnership warmly invites local health and social care providers to join us for a relaxed Provider Launch & Networking Lunch. \nThis event marks the launch of our Training in Partnership training venue\, offering high-quality\, practical training designed to support organisations delivering safe\, effective and person-centred care. \nThe event provides an opportunity to meet other local providers\, learn about available training opportunities\, and explore how Training in Partnership can support your workforce development and compliance needs. \nWhether you regularly commission training or are simply interested in connecting with other organisations in the sector\, we would be delighted to welcome you. \n\nWhat to Expect\nDuring the event you will have the opportunity to: \n• Meet the Training in Partnership team• Learn about our health and social care\, first aid\, health and safety and specialist training programmes• Explore the Training in Partnership training venue• Connect with other local care providers and organisations• Discuss workforce development and compliance training needs \n\nLunch & Refreshments\nA simple buffet-style lunch will be provided during the event. \nWe aim to ensure everyone can enjoy the refreshments provided. When completing your RSVP\, please let us know if you have any dietary requirements or allergies so we can accommodate these where possible. \n\nWho Should Attend\nThis event is ideal for: \n• Care home managers• Domiciliary care providers• Supported living services• Learning disability and autism services• Health and wellbeing organisations• Training coordinators and HR teams• Community and voluntary sector providers \n\nExclusive Attendee Benefits\nAs a thank you for attending\, organisations will receive access to: \n✔ A free Training Needs Analysis✔ 10% discount on your first training booking✔ A Health & Social Care Compliance Training Checklist✔ Priority information on upcoming training courses and events
URL:https://traininginpartnership.co.uk/event/training-in-partnership-provider-launch-networking-lunch/
LOCATION:Training in partnership\, The Chantry Centre\, Andover\, Hampshire\, SP10 1RL\, United Kingdom
ATTACH;FMTTYPE=image/webp:https://traininginpartnership.co.uk/wp-content/uploads/2026/03/Networking-event-image-e1773176679775.webp
END:VEVENT
END:VCALENDAR