BEGIN:VCALENDAR
VERSION:2.0
PRODID:-//Training in partnership - ECPv6.15.20//NONSGML v1.0//EN
CALSCALE:GREGORIAN
METHOD:PUBLISH
X-ORIGINAL-URL:https://traininginpartnership.co.uk
X-WR-CALDESC:Events for Training in partnership
REFRESH-INTERVAL;VALUE=DURATION:PT1H
X-Robots-Tag:noindex
X-PUBLISHED-TTL:PT1H
BEGIN:VTIMEZONE
TZID:Europe/London
BEGIN:DAYLIGHT
TZOFFSETFROM:+0000
TZOFFSETTO:+0100
TZNAME:BST
DTSTART:20250330T010000
END:DAYLIGHT
BEGIN:STANDARD
TZOFFSETFROM:+0100
TZOFFSETTO:+0000
TZNAME:GMT
DTSTART:20251026T010000
END:STANDARD
BEGIN:DAYLIGHT
TZOFFSETFROM:+0000
TZOFFSETTO:+0100
TZNAME:BST
DTSTART:20260329T010000
END:DAYLIGHT
BEGIN:STANDARD
TZOFFSETFROM:+0100
TZOFFSETTO:+0000
TZNAME:GMT
DTSTART:20261025T010000
END:STANDARD
BEGIN:DAYLIGHT
TZOFFSETFROM:+0000
TZOFFSETTO:+0100
TZNAME:BST
DTSTART:20270328T010000
END:DAYLIGHT
BEGIN:STANDARD
TZOFFSETFROM:+0100
TZOFFSETTO:+0000
TZNAME:GMT
DTSTART:20271031T010000
END:STANDARD
END:VTIMEZONE
BEGIN:VEVENT
DTSTART;TZID=Europe/London:20260418T213000
DTEND;TZID=Europe/London:20260418T233000
DTSTAMP:20260422T135031
CREATED:20260325T225048Z
LAST-MODIFIED:20260325T225249Z
UID:10000036-1776547800-1776555000@traininginpartnership.co.uk
SUMMARY:Child & Infant First Aid Essentials - 18/04/2026
DESCRIPTION:👶 Infant & Child First Aid Essentials – 2-Hour Parent Course Feel confident\, act fast – because little lives matter. Accidents Happen… Would You Know What to Do? When it comes to young children\, emergencies can happen in the blink of an eye. Our Infant & Child First Aid Essentials Course is here to give you the knowledge and confidence to act quickly and effectively when it counts most. This engaging and informative 2-hour session is specifically designed for parents\, grandparents\, and family members who care for babies and young children. Whether you’re at home\, out and about\, or looking after little ones regularly – this course is your safety net. 🟢 What Will You Learn? You’ll gain essential first aid skills tailored to common childhood emergencies\, including: ✅ Unconsciousness & recovery position ✅ CPR & choking relief techniques ✅Shock & head injuries ✅ Fever & febrile convulsions ✅ Bleeding\, burns & fractures ✅ Anaphylaxis\, Meningitis & Sepsis This course is taught in a calm\, friendly\, and hands-on environment – with practical demonstrations and time to ask questions\, so you leave feeling truly empowered.   Places are limited\, so early booking is highly recommended! 💚 Why Choose This Course? Perfect for new parents\, expectant parents\, grandparents\, and babysitters Learn from experienced trainers with real-life health & social care backgrounds Gain peace of mind knowing you’re prepared to help in a crisis Delivered by Training In Partnership\, trusted providers of first aid and care training in Hampshire ✅ Book Your Place Today! Secure your spot now and take the first step towards becoming a confident first aider for little ones. \n\n\n\n\n\n\n\n\n\n 
URL:https://traininginpartnership.co.uk/event/child-infant-first-aid-essentials-18-04-2026/
LOCATION:Training In Partnership\, Unit 13 Chantry Centre\, Andover\, Hampshire. SP10 1LX\, Training In Partnership\, Andover\, Hampshire\, SP10 1RL\, United Kingdom
ATTACH;FMTTYPE=image/png:https://traininginpartnership.co.uk/wp-content/uploads/2025/05/Copy-of-Infant-Child-First-Aid-Essentials-for-website-480-x-270-px.png
END:VEVENT
BEGIN:VEVENT
DTSTART;TZID=Europe/London:20260418T123000
DTEND;TZID=Europe/London:20260418T163000
DTSTAMP:20260422T135031
CREATED:20260412T212425Z
LAST-MODIFIED:20260416T153348Z
UID:10000046-1776515400-1776529800@traininginpartnership.co.uk
SUMMARY:Level 3 Award in Emergency First Aid at Work (RQF) (Blended) - 18/04/2026
DESCRIPTION:Be prepared for emergency first aid situations at work. \nThe Health and Safety (First Aid) Regulations 1981 require all employers to make arrangements to ensure their employees receive immediate attention if they are injured or taken ill at work. \nHaving the correct first aid provision in the workplace is not just a legal requirement\, it is incredibly important for the safety of all members of staff! \nThe Qualsafe Level 3 Award in Emergency First Aid at Work (RQF) qualification is designed for individuals who wish to act as an emergency first aider in their workplace. \nUpon successful completion of this qualification\, candidates will be equipped with the essential skills needed to give safe\, prompt and effective first aid inemergency situations. \nAs a regulated qualification\, employers can book this course for their employees and rest assured that they have fulfilled their legal responsibilities for providing quality first aid training\, without having to undertake any lengthy due diligence checks. \nThe roles and responsibilities of an emergency first aider: \n\nAssessing an incident Managing an unresponsive casualty\nCPR and defibrillation\nRecovery Position\nChoking Seizures\nShock Wounds and bleeding\nMinor injuries\nCuts\, grazes and bruises\nMinor burns and scalds\n\nNote: The Emergency First Aid at Work content aligns with Health and Safety Executive (HSE) syllabus
URL:https://traininginpartnership.co.uk/event/level-3-award-in-emergency-first-aid-at-work-rqf-blended-18-04-2026-2/
LOCATION:Training In Partnership\, Unit 13 Chantry Centre\, Andover\, Hampshire. SP10 1LX\, Training In Partnership\, Andover\, Hampshire\, SP10 1RL\, United Kingdom
ATTACH;FMTTYPE=image/png:https://traininginpartnership.co.uk/wp-content/uploads/2025/05/Qualsafe-EFAW-L3-for-website-480-x-270-px.png
END:VEVENT
BEGIN:VEVENT
DTSTART;TZID=Europe/London:20260328T100000
DTEND;TZID=Europe/London:20260401T160000
DTSTAMP:20260422T135031
CREATED:20260324T125418Z
LAST-MODIFIED:20260324T125418Z
UID:10000034-1774692000-1775059200@traininginpartnership.co.uk
SUMMARY:Community Open Day
DESCRIPTION:Community Open Day – Training in Partnership \nJoin us as we celebrate the launch of our brand-new training room in the heart of the Chantry Centre! \nWe are opening our doors to the local community on Saturday 28th March\, between 10:00 and 16:00\, and would love for you to come along\, have a look around\, and see what we have to offer. \nThis relaxed and informal open day is a great opportunity for parents\, families\, carers\, and members of the public to explore our new space\, and learn more about the training and support we provide. \nThroughout the day\, you can: \n\nTake a tour of our calm\, welcoming and fully equipped training room\nWatch short\, informal first aid demonstrations\nLearn practical safety tips for home\, children\, and everyday life\nAsk questions and chat with a friendly\, experienced trainer\nFind out about upcoming courses for families\, parents\, and the wider community\n\nWhether you’re interested in building your confidence in first aid\, looking for local training opportunities\, or simply want to see what we’re all about\, you will be warmly welcomed. \nThere’s no formal schedule\, just drop in at a time that suits you. \nWe look forward to welcoming you and being part of our local community.
URL:https://traininginpartnership.co.uk/event/community-open-day/
LOCATION:Training In Partnership\, Unit 13 Chantry Centre\, Andover\, Hampshire. SP10 1LX\, Training In Partnership\, Andover\, Hampshire\, SP10 1RL\, United Kingdom
ATTACH;FMTTYPE=image/webp:https://traininginpartnership.co.uk/wp-content/uploads/2025/12/Paediatric-first-aid.webp
ORGANIZER;CN="Training In Partnership":MAILTO:Support@traininginpartnership.co.uk
END:VEVENT
END:VCALENDAR