BEGIN:VCALENDAR
VERSION:2.0
PRODID:-//Training in partnership - ECPv6.15.20//NONSGML v1.0//EN
CALSCALE:GREGORIAN
METHOD:PUBLISH
X-ORIGINAL-URL:https://traininginpartnership.co.uk
X-WR-CALDESC:Events for Training in partnership
REFRESH-INTERVAL;VALUE=DURATION:PT1H
X-Robots-Tag:noindex
X-PUBLISHED-TTL:PT1H
BEGIN:VTIMEZONE
TZID:Europe/London
BEGIN:DAYLIGHT
TZOFFSETFROM:+0000
TZOFFSETTO:+0100
TZNAME:BST
DTSTART:20240331T010000
END:DAYLIGHT
BEGIN:STANDARD
TZOFFSETFROM:+0100
TZOFFSETTO:+0000
TZNAME:GMT
DTSTART:20241027T010000
END:STANDARD
BEGIN:DAYLIGHT
TZOFFSETFROM:+0000
TZOFFSETTO:+0100
TZNAME:BST
DTSTART:20250330T010000
END:DAYLIGHT
BEGIN:STANDARD
TZOFFSETFROM:+0100
TZOFFSETTO:+0000
TZNAME:GMT
DTSTART:20251026T010000
END:STANDARD
BEGIN:DAYLIGHT
TZOFFSETFROM:+0000
TZOFFSETTO:+0100
TZNAME:BST
DTSTART:20260329T010000
END:DAYLIGHT
BEGIN:STANDARD
TZOFFSETFROM:+0100
TZOFFSETTO:+0000
TZNAME:GMT
DTSTART:20261025T010000
END:STANDARD
END:VTIMEZONE
BEGIN:VEVENT
DTSTART;TZID=Europe/London:20250810T130000
DTEND;TZID=Europe/London:20250810T150000
DTSTAMP:20260420T223308
CREATED:20250527T202447Z
LAST-MODIFIED:20250528T154233Z
UID:10000005-1754830800-1754838000@traininginpartnership.co.uk
SUMMARY:Infant and Child First Aid
DESCRIPTION:👶 Infant & Child First Aid Essentials – 2-Hour Parent Course \nFeel confident\, act fast – because little lives matter.  \nAccidents Happen… Would You Know What to Do? \nWhen it comes to young children\, emergencies can happen in the blink of an eye. \nOur Infant & Child First Aid Essentials Course is here to give you the knowledge and confidence to act quickly and effectively when it counts most. \nThis engaging and informative 2-hour session is specifically designed for parents\, grandparents\, and family members who care for babies and young children. \nWhether you’re at home\, out and about\, or looking after little ones regularly – this course is your safety net. \n🟢 What Will You Learn? You’ll gain essential first aid skills tailored to common childhood emergencies\, including: \n✅ Unconsciousness & recovery position \n✅ CPR & choking relief techniques \n✅Shock & head injuries \n✅ Fever & febrile convulsions \n✅ Bleeding\, burns & fractures \n✅ Anaphylaxis\, Meningitis & Sepsis \nThis course is taught in a calm\, friendly\, and hands-on environment – with practical demonstrations and time to ask questions\, so you leave feeling truly empowered.   Places are limited\, so early booking is highly recommended! \n💚 Why Choose This Course? \nPerfect for new parents\, expectant parents\, grandparents\, and babysitters \nLearn from experienced trainers with real-life health & social care backgrounds \nGain peace of mind knowing you’re prepared to help in a crisis \nDelivered by Training In Partnership\, trusted providers of first aid and care training in Hampshire \n✅ Book Your Place Today! \nSecure your spot now and take the first step towards becoming a confident first aider for little ones. \n\n\n\n\n\n\n\n\n\n\n 
URL:https://traininginpartnership.co.uk/event/infant-and-child-first-aid/
LOCATION:Lullababy\, The Chantry Center\, Andover\, Hampshire\, SP10 1QP\, United Kingdom
ATTACH;FMTTYPE=image/png:https://traininginpartnership.co.uk/wp-content/uploads/2025/05/Copy-of-Infant-Child-First-Aid-Essentials-for-website-480-x-270-px.png
END:VEVENT
BEGIN:VEVENT
DTSTART;TZID=Europe/London:20250810T093000
DTEND;TZID=Europe/London:20250810T123000
DTSTAMP:20260420T223308
CREATED:20250527T205400Z
LAST-MODIFIED:20250719T224921Z
UID:10000007-1754818200-1754829000@traininginpartnership.co.uk
SUMMARY:Qualsafe Level 3 Award in First Aid at Work (Annual Refresher) (RQF)
DESCRIPTION:Did you know that the HSE guidelines state that employers should ensure their first aiders remain competent to perform their role? \nAs such\, it is strongly recommended that first aiders undertake annual refresher training. \nThe Qualsafe Level 3 Award in First Aid at Work (Annual Refresher) (RQF) qualification allows qualified first aiders to update their first aid skills yearly\, until requalification training is required. Successful candidates will leave with a renewed confidence\, having refreshed the first aid skills needed to deal with emergency situations. \n\nAssessing an incident\nManaging an unresponsive casualty\nRecovery Position\nCPR and defibrillation\nChoking\nSeizures\n\n\n\n\n\n\n\n\n\n\n\n 
URL:https://traininginpartnership.co.uk/event/qualsafe-level-3-award-in-first-aid-at-work-annual-refresher-rqf/
LOCATION:Lullababy\, The Chantry Center\, Andover\, Hampshire\, SP10 1QP\, United Kingdom
END:VEVENT
BEGIN:VEVENT
DTSTART;TZID=Europe/London:20250726T090000
DTEND;TZID=Europe/London:20250726T163000
DTSTAMP:20260420T223308
CREATED:20250525T201041Z
LAST-MODIFIED:20250528T154541Z
UID:10000004-1753520400-1753547400@traininginpartnership.co.uk
SUMMARY:Emergency First Aid at Work (EFAW) Optional Emergency Paediatric First Aid add on
DESCRIPTION:Be prepared for emergency first aid situations at work. \nThe Health and Safety (First Aid) Regulations 1981 require all employers to make arrangements to ensure their employees receive immediate attention if they are injured or taken ill at work. \nHaving the correct first aid provision in the workplace is not just a legal requirement\, it is incredibly important for the safety of all members of staff! \nThe Qualsafe Level 3 Award in Emergency First Aid at Work (RQF) qualification is designed for individuals who wish to act as an emergency first aider in their workplace. \nUpon successful completion of this qualification\, candidates will be equipped with the essential skills needed to give safe\, prompt and effective first aid inemergency situations. \nAs a regulated qualification\, employers can book this course for their employees and rest assured that they have fulfilled their legal responsibilities for providing quality first aid training\, without having to undertake any lengthy due diligence checks. \nThe roles and responsibilities of an emergency first aider: \n\nAssessing an incident Managing an unresponsive casualty\nCPR and defibrillation\nRecovery Position\nChoking Seizures\nShock Wounds and bleeding\nMinor injuries\nCuts\, grazes and bruises\nMinor burns and scalds\n\nNote: The Emergency First Aid at Work content aligns with Health and Safety Executive (HSE) syllabus \n\n\n\n\n\n\n\n\n\n\n \n\n\n\n 
URL:https://traininginpartnership.co.uk/event/emergency-first-aid-at-work-efaw/
LOCATION:Lullababy\, The Chantry Center\, Andover\, Hampshire\, SP10 1QP\, United Kingdom
ATTACH;FMTTYPE=image/png:https://traininginpartnership.co.uk/wp-content/uploads/2025/05/Qualsafe-EFAW-L3-for-website-480-x-270-px.png
ORGANIZER;CN="Training In Partnership":MAILTO:Support@traininginpartnership.co.uk
END:VEVENT
BEGIN:VEVENT
DTSTART;TZID=Europe/London:20250706T100000
DTEND;TZID=Europe/London:20250706T120000
DTSTAMP:20260420T223308
CREATED:20250525T194041Z
LAST-MODIFIED:20250528T154745Z
UID:10000003-1751796000-1751803200@traininginpartnership.co.uk
SUMMARY:Infant & Child First Aid Essentials
DESCRIPTION:👶 Infant & Child First Aid Essentials – 2-Hour Parent Course \nFeel confident\, act fast – because little lives matter.  \nAccidents Happen… Would You Know What to Do? \nWhen it comes to young children\, emergencies can happen in the blink of an eye. \nOur Infant & Child First Aid Essentials Course is here to give you the knowledge and confidence to act quickly and effectively when it counts most. \nThis engaging and informative 2-hour session is specifically designed for parents\, grandparents\, and family members who care for babies and young children. \nWhether you’re at home\, out and about\, or looking after little ones regularly – this course is your safety net. \n🟢 What Will You Learn? You’ll gain essential first aid skills tailored to common childhood emergencies\, including: \n✅ Unconsciousness & recovery position \n✅ CPR & choking relief techniques \n✅Shock & head injuries \n✅ Fever & febrile convulsions \n✅ Bleeding\, burns & fractures \n✅ Anaphylaxis\, Meningitis & Sepsis \nThis course is taught in a calm\, friendly\, and hands-on environment – with practical demonstrations and time to ask questions\, so you leave feeling truly empowered.   Places are limited\, so early booking is highly recommended! \n💚 Why Choose This Course? \nPerfect for new parents\, expectant parents\, grandparents\, and babysitters \nLearn from experienced trainers with real-life health & social care backgrounds \nGain peace of mind knowing you’re prepared to help in a crisis \nDelivered by Training In Partnership\, trusted providers of first aid and care training in Hampshire \n✅ Book Your Place Today! \nSecure your spot now and take the first step towards becoming a confident first aider for little ones. \n\n\n\n\n\n\n\n\n\n\n 
URL:https://traininginpartnership.co.uk/event/infant-child-first-aid-essentials-2/
LOCATION:Lullababy\, The Chantry Center\, Andover\, Hampshire\, SP10 1QP\, United Kingdom
ATTACH;FMTTYPE=image/png:https://traininginpartnership.co.uk/wp-content/uploads/2025/05/Copy-of-Infant-Child-First-Aid-Essentials-for-website-480-x-270-px.png
ORGANIZER;CN="Training In Partnership":MAILTO:Support@traininginpartnership.co.uk
END:VEVENT
BEGIN:VEVENT
DTSTART;TZID=Europe/London:20250705T090000
DTEND;TZID=Europe/London:20250705T170000
DTSTAMP:20260420T223308
CREATED:20250518T102706Z
LAST-MODIFIED:20250528T155059Z
UID:10000002-1751706000-1751734800@traininginpartnership.co.uk
SUMMARY:QA Level 3 Award in Paediatric First Aid (RQF) (Blended)
DESCRIPTION:Ideal for anyone who cares for children in a professional or non-professional capacity\, you will gain the necessary skills to administer safe and effective treatment for a range of paediatric first aid situations. \nWith our new Blended Learning option\, you can now complete our innovative e-Learning before completing one trainer-led day in the classroom focussing on the practical side of Paediatric First Aid. \nThe Early Years Foundation Stage (EYFS) Statutory Framework requires all early years providers in England to have at least one person with a valid paediatric first aid certificate on the premises and available at all times when children are present. \n\n\n\n\n\n\n\n\n\n\n 
URL:https://traininginpartnership.co.uk/event/qa-level-3-award-in-paediatric-first-aid-rqf-blended/
LOCATION:Lullababy\, The Chantry Center\, Andover\, Hampshire\, SP10 1QP\, United Kingdom
ATTACH;FMTTYPE=image/png:https://traininginpartnership.co.uk/wp-content/uploads/2025/05/PRA-blended-for-website-480-x-270-px.png
ORGANIZER;CN="Training In Partnership":MAILTO:Support@traininginpartnership.co.uk
END:VEVENT
BEGIN:VEVENT
DTSTART;TZID=Europe/London:20250628T120000
DTEND;TZID=Europe/London:20250628T140000
DTSTAMP:20260420T223308
CREATED:20250515T193508Z
LAST-MODIFIED:20250528T154827Z
UID:10000001-1751112000-1751119200@traininginpartnership.co.uk
SUMMARY:Infant & Child First Aid Essentials
DESCRIPTION:👶 Infant & Child First Aid Essentials – 2-Hour Parent Course \nFeel confident\, act fast – because little lives matter.  \nAccidents Happen… Would You Know What to Do? \nWhen it comes to young children\, emergencies can happen in the blink of an eye. \nOur Infant & Child First Aid Essentials Course is here to give you the knowledge and confidence to act quickly and effectively when it counts most. \nThis engaging and informative 2-hour session is specifically designed for parents\, grandparents\, and family members who care for babies and young children. \nWhether you’re at home\, out and about\, or looking after little ones regularly – this course is your safety net. \n🟢 What Will You Learn? You’ll gain essential first aid skills tailored to common childhood emergencies\, including: \n✅ Unconsciousness & recovery position \n✅ CPR & choking relief techniques \n✅Shock & head injuries \n✅ Fever & febrile convulsions \n✅ Bleeding\, burns & fractures \n✅ Anaphylaxis\, Meningitis & Sepsis \nThis course is taught in a calm\, friendly\, and hands-on environment – with practical demonstrations and time to ask questions\, so you leave feeling truly empowered.   Places are limited\, so early booking is highly recommended! \n💚 Why Choose This Course? \nPerfect for new parents\, expectant parents\, grandparents\, and babysitters \nLearn from experienced trainers with real-life health & social care backgrounds \nGain peace of mind knowing you’re prepared to help in a crisis \nDelivered by Training In Partnership\, trusted providers of first aid and care training in Hampshire \n✅ Book Your Place Today! \nSecure your spot now and take the first step towards becoming a confident first aider for little ones. \n\n\n\n\n\n\n\n\n\n\n 
URL:https://traininginpartnership.co.uk/event/infant-child-first-aid-essentials/
LOCATION:Lullababy\, The Chantry Center\, Andover\, Hampshire\, SP10 1QP\, United Kingdom
ATTACH;FMTTYPE=image/png:https://traininginpartnership.co.uk/wp-content/uploads/2025/05/Copy-of-Infant-Child-First-Aid-Essentials-for-website-480-x-270-px.png
END:VEVENT
END:VCALENDAR